BEGIN:VCALENDAR
VERSION:2.0
PRODID:-//Golf Academy at Terra Cotta - ECPv6.15.20//NONSGML v1.0//EN
CALSCALE:GREGORIAN
METHOD:PUBLISH
X-WR-CALNAME:Golf Academy at Terra Cotta
X-ORIGINAL-URL:https://golfacademytc.com
X-WR-CALDESC:Events for Golf Academy at Terra Cotta
REFRESH-INTERVAL;VALUE=DURATION:PT1H
X-Robots-Tag:noindex
X-PUBLISHED-TTL:PT1H
BEGIN:VTIMEZONE
TZID:UTC
BEGIN:STANDARD
TZOFFSETFROM:+0000
TZOFFSETTO:+0000
TZNAME:UTC
DTSTART:20250101T000000
END:STANDARD
END:VTIMEZONE
BEGIN:VEVENT
DTSTART;TZID=UTC:20260603T100000
DTEND;TZID=UTC:20260624T110000
DTSTAMP:20260419T104642
CREATED:20250902T154258Z
LAST-MODIFIED:20251125T035230Z
UID:100-1780480800-1782298800@golfacademytc.com
SUMMARY:Summer Junior Golf Program D
DESCRIPTION:Program: D\nAge: 5-7 Boys & Girls\nDays: Wednesday\nTime: 10-11\nDates: June 3\, 10\, 17\, 24\nCost: $140
URL:https://golfacademytc.com/event/summer-junior-golf-program-d/
CATEGORIES:Junior Golf,Summer I
END:VEVENT
BEGIN:VEVENT
DTSTART;TZID=UTC:20260604T090000
DTEND;TZID=UTC:20260625T110000
DTSTAMP:20260419T104642
CREATED:20250902T154338Z
LAST-MODIFIED:20251125T035336Z
UID:102-1780563600-1782385200@golfacademytc.com
SUMMARY:Summer Junior Golf Program E
DESCRIPTION:Program: E\nAge: 12 – 14 Boys\nDays: Thursday\nTime: 9:00 – 11:00\nDates: June 4\, 11\, 18\, 25\nCost: $190
URL:https://golfacademytc.com/event/summer-junior-golf-program-e/
CATEGORIES:Junior Golf,Summer I
END:VEVENT
BEGIN:VEVENT
DTSTART;TZID=UTC:20260604T163000
DTEND;TZID=UTC:20260625T180000
DTSTAMP:20260419T104642
CREATED:20250902T154419Z
LAST-MODIFIED:20251125T035741Z
UID:104-1780590600-1782410400@golfacademytc.com
SUMMARY:Summer Junior Golf Program F
DESCRIPTION:Program: F\nAge: 8 – 14 Boys & Girls\nDays: Thursday\nTime: 4:30 – 6:00\nDates: June 4\, 11\, 18\, 25\nCost: $165
URL:https://golfacademytc.com/event/summer-junior-golf-program-f/
CATEGORIES:Junior Golf,Summer I
END:VEVENT
END:VCALENDAR