BEGIN:VCALENDAR
VERSION:2.0
PRODID:-//Golf Academy at Terra Cotta - ECPv6.15.20//NONSGML v1.0//EN
CALSCALE:GREGORIAN
METHOD:PUBLISH
X-WR-CALNAME:Golf Academy at Terra Cotta
X-ORIGINAL-URL:https://golfacademytc.com
X-WR-CALDESC:Events for Golf Academy at Terra Cotta
REFRESH-INTERVAL;VALUE=DURATION:PT1H
X-Robots-Tag:noindex
X-PUBLISHED-TTL:PT1H
BEGIN:VTIMEZONE
TZID:UTC
BEGIN:STANDARD
TZOFFSETFROM:+0000
TZOFFSETTO:+0000
TZNAME:UTC
DTSTART:20240101T000000
END:STANDARD
END:VTIMEZONE
BEGIN:VEVENT
DTSTART;TZID=UTC:20250706T080000
DTEND;TZID=UTC:20250727T093000
DTSTAMP:20260420T050349
CREATED:20250902T154710Z
LAST-MODIFIED:20251125T041622Z
UID:108-1751788800-1753608600@golfacademytc.com
SUMMARY:Summer Junior Golf Program G
DESCRIPTION:Program: H\nAge: 8-11 Boys\nDays: Mondays\nTime: 8:00 – 9:30\nDates: July 6\, 13\, 20\, 27\nCost: $165
URL:https://golfacademytc.com/event/summer-junior-golf-program-h/
CATEGORIES:Junior Golf,Summer II
END:VEVENT
END:VCALENDAR