BEGIN:VCALENDAR
VERSION:2.0
PRODID:-//Golf Academy at Terra Cotta - ECPv6.15.20//NONSGML v1.0//EN
CALSCALE:GREGORIAN
METHOD:PUBLISH
X-WR-CALNAME:Golf Academy at Terra Cotta
X-ORIGINAL-URL:https://golfacademytc.com
X-WR-CALDESC:Events for Golf Academy at Terra Cotta
REFRESH-INTERVAL;VALUE=DURATION:PT1H
X-Robots-Tag:noindex
X-PUBLISHED-TTL:PT1H
BEGIN:VTIMEZONE
TZID:UTC
BEGIN:STANDARD
TZOFFSETFROM:+0000
TZOFFSETTO:+0000
TZNAME:UTC
DTSTART:20250101T000000
END:STANDARD
END:VTIMEZONE
BEGIN:VEVENT
DTSTART;TZID=UTC:20260407T180000
DTEND;TZID=UTC:20260428T190000
DTSTAMP:20260421T082224
CREATED:20260106T025343Z
LAST-MODIFIED:20260211T212741Z
UID:870-1775584800-1777402800@golfacademytc.com
SUMMARY:Ladies Night Class
DESCRIPTION:Calling all ladies! Bring your friends for a fun four weeks of golf with LPGA Professional Kaylee Szklarzewski. Ladies will learn the basics of the full swing and short game (putting\, chipping\, pitching\, bunker shot). On the last night of class\, enjoy wine and desserts provided by the golf academy! \nTuesdays 6-7 pm \nApril 7\, 14\, 21\, 28
URL:https://golfacademytc.com/event/ladies-night-class-4/
CATEGORIES:Golf Clinics,Ladies Night Class
END:VEVENT
END:VCALENDAR